BEGIN:VCALENDAR
VERSION:2.0
PRODID:-//Grace Church - ECPv6.15.20//NONSGML v1.0//EN
CALSCALE:GREGORIAN
METHOD:PUBLISH
X-WR-CALNAME:Grace Church
X-ORIGINAL-URL:https://grace-efc.org
X-WR-CALDESC:Events for Grace Church
REFRESH-INTERVAL;VALUE=DURATION:PT1H
X-Robots-Tag:noindex
X-PUBLISHED-TTL:PT1H
BEGIN:VTIMEZONE
TZID:America/Chicago
BEGIN:DAYLIGHT
TZOFFSETFROM:-0600
TZOFFSETTO:-0500
TZNAME:CDT
DTSTART:20250309T080000
END:DAYLIGHT
BEGIN:STANDARD
TZOFFSETFROM:-0500
TZOFFSETTO:-0600
TZNAME:CST
DTSTART:20251102T070000
END:STANDARD
BEGIN:DAYLIGHT
TZOFFSETFROM:-0600
TZOFFSETTO:-0500
TZNAME:CDT
DTSTART:20260308T080000
END:DAYLIGHT
BEGIN:STANDARD
TZOFFSETFROM:-0500
TZOFFSETTO:-0600
TZNAME:CST
DTSTART:20261101T070000
END:STANDARD
BEGIN:DAYLIGHT
TZOFFSETFROM:-0600
TZOFFSETTO:-0500
TZNAME:CDT
DTSTART:20270314T080000
END:DAYLIGHT
BEGIN:STANDARD
TZOFFSETFROM:-0500
TZOFFSETTO:-0600
TZNAME:CST
DTSTART:20271107T070000
END:STANDARD
END:VTIMEZONE
BEGIN:VEVENT
DTSTART;VALUE=DATE:20260713
DTEND;VALUE=DATE:20260718
DTSTAMP:20260419T072817
CREATED:20260413T193029Z
LAST-MODIFIED:20260413T201952Z
UID:10006906-1783900800-1784332799@grace-efc.org
SUMMARY:Youth Challenge Conference
DESCRIPTION:[vc_row type=”in_container” full_screen_row_position=”middle” column_margin=”default” column_direction=”default” column_direction_tablet=”default” column_direction_phone=”default” scene_position=”center” text_color=”dark” text_align=”left” row_border_radius=”none” row_border_radius_applies=”bg” row_position_desktop=”default” row_position_tablet=”inherit” row_position_phone=”inherit” overflow=”visible” overlay_strength=”0.3″ gradient_direction=”left_to_right” shape_divider_position=”bottom” bg_image_animation=”none”][vc_column column_padding=”no-extra-padding” column_padding_tablet=”inherit” column_padding_phone=”inherit” column_padding_position=”all” flex_gap_desktop=”10px” column_element_direction_desktop=”default” column_element_spacing=”default” desktop_text_alignment=”default” tablet_text_alignment=”default” phone_text_alignment=”default” background_color_opacity=”1″ background_hover_color_opacity=”1″ column_backdrop_filter=”none” column_shadow=”none” column_border_radius=”none” column_link_target=”_self” column_position=”default” gradient_direction=”left_to_right” overlay_strength=”0.3″ width=”1/1″ tablet_width_inherit=”default” animation_type=”default” bg_image_animation=”none” border_type=”simple” column_border_width=”none” column_border_style=”solid”][vc_column_text css=”” text_direction=”default”]What is Challenge?\nChallenge Conference is an incredible week where students (incoming 8th grade-graduating 12th grade) gather to grow in their faith\, have a ton of fun\, and be reminded that they’re part of something bigger than themselves. Challenge brings engaging speakers\, powerful worship\, and meaningful friendships together in one high-energy environment. It feels like a mix of camp\, conference\, and mission trip. Students leave encouraged\, challenged\, and ready to live boldly for Jesus back home. \nThis Year’s Theme: Even Here\nAt Challenge 2026\, we’ll step into the Psalms to encounter the same unchanging truth: the loving presence of God transforms every place we stand. And as students return home\, they’ll carry with them the deep assurance that\, no matter where they are or what they face\, God is even here. \nRegistration\nChallenge is July 13-17th in Kansas City. Trip details and cost for this year’s conference are being finalized. Registration coming soon! \n“Where can I go from your Spirit? Where can I flee from your \npresence? If I go up to the heavens\, you are there; if I make my \nbed in the depths\, you are there. If I rise on the wings of the dawn\, \nif I settle on the far side of the sea\, even there your hand \nwill guide me\, your right hand will hold me fast.” (Ps 139:7-10)[/vc_column_text][/vc_column][/vc_row]
URL:https://grace-efc.org/event/youth-challenge-conference/
CATEGORIES:Coming Soon,Youth
ATTACH;FMTTYPE=image/png:https://grace-efc.org/wp-content/uploads/2026/04/Challenge.png
END:VEVENT
END:VCALENDAR